BEGIN:VCALENDAR
VERSION:2.0
PRODID:-//Liepājas Kompleksā sporta skola - ECPv6.15.20//NONSGML v1.0//EN
CALSCALE:GREGORIAN
METHOD:PUBLISH
X-WR-CALNAME:Liepājas Kompleksā sporta skola
X-ORIGINAL-URL:https://lkss.lv
X-WR-CALDESC:Events for Liepājas Kompleksā sporta skola
REFRESH-INTERVAL;VALUE=DURATION:PT1H
X-Robots-Tag:noindex
X-PUBLISHED-TTL:PT1H
BEGIN:VTIMEZONE
TZID:Europe/Riga
BEGIN:DAYLIGHT
TZOFFSETFROM:+0200
TZOFFSETTO:+0300
TZNAME:EEST
DTSTART:20230326T010000
END:DAYLIGHT
BEGIN:STANDARD
TZOFFSETFROM:+0300
TZOFFSETTO:+0200
TZNAME:EET
DTSTART:20231029T010000
END:STANDARD
BEGIN:DAYLIGHT
TZOFFSETFROM:+0200
TZOFFSETTO:+0300
TZNAME:EEST
DTSTART:20240331T010000
END:DAYLIGHT
BEGIN:STANDARD
TZOFFSETFROM:+0300
TZOFFSETTO:+0200
TZNAME:EET
DTSTART:20241027T010000
END:STANDARD
BEGIN:DAYLIGHT
TZOFFSETFROM:+0200
TZOFFSETTO:+0300
TZNAME:EEST
DTSTART:20250330T010000
END:DAYLIGHT
BEGIN:STANDARD
TZOFFSETFROM:+0300
TZOFFSETTO:+0200
TZNAME:EET
DTSTART:20251026T010000
END:STANDARD
BEGIN:DAYLIGHT
TZOFFSETFROM:+0200
TZOFFSETTO:+0300
TZNAME:EEST
DTSTART:20260329T010000
END:DAYLIGHT
BEGIN:STANDARD
TZOFFSETFROM:+0300
TZOFFSETTO:+0200
TZNAME:EET
DTSTART:20261025T010000
END:STANDARD
END:VTIMEZONE
BEGIN:VEVENT
DTSTART;TZID=Europe/Riga:20250605T120000
DTEND;TZID=Europe/Riga:20250606T180000
DTSTAMP:20260423T093822
CREATED:20250423T125254Z
LAST-MODIFIED:20250423T125254Z
UID:2553-1749124800-1749232800@lkss.lv
SUMMARY:Liepājas atklātais čempionāts sporta vingrošanā 2025
DESCRIPTION:Popularizēt sporta vingrošanas sporta veidu. Sacensībās piedalās Latvijas Vingrošanas federācijas biedru  un citu valstu sportistes (seniores\, juniores\, pre-juniores\, 5.-4.sporta klases sportistes). \n 
URL:https://lkss.lv/kalendars/liepajas-atklatais-cempionats-sporta-vingrosana-2025/
LOCATION:Sporta vingrošanas un šaha sporta bāze\, Rīgas iela 8\, Liepāja\, Latvija
CATEGORIES:Sporta vingrošana
ORGANIZER;CN="Liep%C4%81jas Kompleks%C4%81s sporta skolas sporta vingro%C5%A1anas noda%C4%BCa":MAILTO:liepaja.lkss@liepaja.lv
END:VEVENT
BEGIN:VEVENT
DTSTART;VALUE=DATE:20250526
DTEND;VALUE=DATE:20250601
DTSTAMP:20260423T093822
CREATED:20250417T065602Z
LAST-MODIFIED:20250417T072318Z
UID:2466-1748217600-1748735999@lkss.lv
SUMMARY:11.Eiropas čempionāts pieaugušajiem sporta vingrošanā
DESCRIPTION:Starptautiskas sacensības  pieaugušajiem.
URL:https://lkss.lv/kalendars/11-eiropas-cempionats-sporta-vingrosana/
LOCATION:Exhibition Cebter Leipzig Halle:EINS\, Messe-Allee 1\, Leipzig\, Germany
CATEGORIES:Sporta vingrošana
END:VEVENT
BEGIN:VEVENT
DTSTART;VALUE=DATE:20250517
DTEND;VALUE=DATE:20250519
DTSTAMP:20260423T093822
CREATED:20250514T084614Z
LAST-MODIFIED:20250514T084614Z
UID:2626-1747440000-1747612799@lkss.lv
SUMMARY:Daugavpils pilsētas atklātais čempionāts sporta vingrošanā 2025
DESCRIPTION:Sacensības notiek 4.-5.sporta klases\, pre-juniores\, juniores un seniores sporta vingrotājām.
URL:https://lkss.lv/kalendars/daugavpils-pilsetas-atklatais-cempionats-sporta-vingrosana-2025/
LOCATION:Daugavpils Olimpiskais Centrs\, Stadiona iela 1\, Daugavpils
CATEGORIES:Sporta vingrošana
END:VEVENT
BEGIN:VEVENT
DTSTART;VALUE=DATE:20250516
DTEND;VALUE=DATE:20250517
DTSTAMP:20260423T093822
CREATED:20250514T090038Z
LAST-MODIFIED:20250514T090038Z
UID:2630-1747353600-1747439999@lkss.lv
SUMMARY:Vilties Gimnastika 2025 sporta vingrošanā
DESCRIPTION:Klaipēdas pilsētas starptautisks turnīrs 1.-3.sporta klases sporta vingrotājām.
URL:https://lkss.lv/kalendars/vilties-gimnastika-2025-sporta-vingrosana/
LOCATION:SC Viesulo gimnastikos sporto saleje\, Debreceno g. 48\, Klaipēda\, Lithuania
CATEGORIES:Sporta vingrošana
END:VEVENT
BEGIN:VEVENT
DTSTART;VALUE=DATE:20250509
DTEND;VALUE=DATE:20250510
DTSTAMP:20260423T093822
CREATED:20250510T104502Z
LAST-MODIFIED:20250510T104635Z
UID:2604-1746748800-1746835199@lkss.lv
SUMMARY:Ventspils Sporta skolas ''Spars'' atklātā kausa izcīņa sporta vingrošanā
DESCRIPTION:Piedalās 3.-5.sporta klases vingrotājas.
URL:https://lkss.lv/kalendars/ventspils-sporta-skolas-spars-atklata-kausa-izcina-sporta-vingrosana/
LOCATION:OC VENTSPILS vingrošanas zāle\, Sporta iela 7/9\, Ventspils
CATEGORIES:Sporta vingrošana
ORGANIZER;CN="Ventspils sporta skola ''Spars''":MAILTO:spars@ventspils.lv
END:VEVENT
BEGIN:VEVENT
DTSTART;VALUE=DATE:20250425
DTEND;VALUE=DATE:20250427
DTSTAMP:20260423T093822
CREATED:20250410T142216Z
LAST-MODIFIED:20250410T142216Z
UID:2447-1745539200-1745711999@lkss.lv
SUMMARY:Latvijas Republikas kauss sporta vingrošanā
DESCRIPTION:Noskaidrot labākos sporta vingrotājus. Piedalās seniores\, juniores un pre-juniores.
URL:https://lkss.lv/kalendars/latvijas-republikas-kauss-sporta-vingrosana/
LOCATION:Rīgas Vingrošanas skola\, Miera iela 62\, Rīga\, Latvia
CATEGORIES:Sporta vingrošana
END:VEVENT
BEGIN:VEVENT
DTSTART;VALUE=DATE:20250425
DTEND;VALUE=DATE:20250426
DTSTAMP:20260423T093822
CREATED:20250417T064111Z
LAST-MODIFIED:20250417T083030Z
UID:2459-1745539200-1745625599@lkss.lv
SUMMARY:Klaipēdas atvērtais čempionāts sporta vingrošanā
DESCRIPTION:Sacensības jauniešiem sporta vingrošanā.
URL:https://lkss.lv/kalendars/klaipedas-atvertais-cempionats-jauniesiem/
LOCATION:BI Klaipedos ”Viesulo” vingrošanas sporta centrā\, Debreceno g. 48\, Klaipēda\, Lietuva
CATEGORIES:Sporta vingrošana
END:VEVENT
BEGIN:VEVENT
DTSTART;VALUE=DATE:20250417
DTEND;VALUE=DATE:20250418
DTSTAMP:20260423T093822
CREATED:20250103T091558Z
LAST-MODIFIED:20250320T132028Z
UID:2013-1744848000-1744934399@lkss.lv
SUMMARY:Lieldienu turnīrs 2025
DESCRIPTION:Sacensības sporta vingrošanā. Piedalās 1.-5.sporta klases vingrotājas.
URL:https://lkss.lv/kalendars/lieldienu-turnirs-2025/
LOCATION:LKSS sporta vingrošanas un šaha sporta bāze\, Rīgas iela 8\, Liepāja\, Select a State:\, Latvija
CATEGORIES:Sporta vingrošana
ORGANIZER;CN="Liep%C4%81jas Kompleks%C4%81s sporta skolas sporta vingro%C5%A1anas noda%C4%BCa":MAILTO:liepaja.kss@liepaja.lv
END:VEVENT
BEGIN:VEVENT
DTSTART;VALUE=DATE:20250228
DTEND;VALUE=DATE:20250302
DTSTAMP:20260423T093822
CREATED:20250114T090318Z
LAST-MODIFIED:20250114T090318Z
UID:2039-1740700800-1740873599@lkss.lv
SUMMARY:Tīģerēna kauss 2025
DESCRIPTION:Rīgas Vingrošanas skolas atklātās sacensības sporta vingrošanā
URL:https://lkss.lv/kalendars/tigerena-kauss-2025/
LOCATION:Rīgas Vingrošanas skola\, Miera iela 62\, Rīga\, Latvia
CATEGORIES:Sporta vingrošana
END:VEVENT
BEGIN:VEVENT
DTSTART;VALUE=DATE:20250221
DTEND;VALUE=DATE:20250222
DTSTAMP:20260423T093822
CREATED:20250203T112956Z
LAST-MODIFIED:20250203T112956Z
UID:2114-1740096000-1740182399@lkss.lv
SUMMARY:Kaunas Open sporta vingrošanā
DESCRIPTION:Starptautiskas sacensības sporta vingrošanā (2011.-2013.dzimš.gada meitenēm).
URL:https://lkss.lv/kalendars/kaunas-open-sporta-vingrosana/
LOCATION:KAUNO SPORT SCHOOL *STARTAS”\, Miško g. 3A\, Kaunas\, Lithuania
CATEGORIES:Sporta vingrošana
ORGANIZER;CN="KAUNO SPORT SCHOOL STARTAS":MAILTO:gimnastika@smstartas.lt
END:VEVENT
BEGIN:VEVENT
DTSTART;VALUE=DATE:20250214
DTEND;VALUE=DATE:20250215
DTSTAMP:20260423T093822
CREATED:20250203T120613Z
LAST-MODIFIED:20250203T120613Z
UID:2119-1739491200-1739577599@lkss.lv
SUMMARY:Ventspils SS ''Spars'' atklātais čempionāts
DESCRIPTION:Sporta vingrošanas sacensības. \nSacensībās piedalās 1.-5.sporta klases\, pre-juniores un juniores sporta vingrotājas.
URL:https://lkss.lv/kalendars/ventspils-ss-spars-atklatais-cempionats/
LOCATION:OC VENTSPILS vingrošanas zāle\, Sporta iela 7/9\, Ventspils
CATEGORIES:Sporta vingrošana
ORGANIZER;CN="Ventspils SS ''Spars'' vingro%C5%A1anas noda%C4%BCa":MAILTO:spars@ventspils.lv
END:VEVENT
BEGIN:VEVENT
DTSTART;VALUE=DATE:20250207
DTEND;VALUE=DATE:20250208
DTSTAMP:20260423T093822
CREATED:20250103T091232Z
LAST-MODIFIED:20250103T091232Z
UID:2010-1738886400-1738972799@lkss.lv
SUMMARY:Liepājas Kompleksās sporta skolas meistarsacīkstes
DESCRIPTION:Sacensības sporta vingrošanā
URL:https://lkss.lv/kalendars/liepajas-kompleksas-sporta-skolas-meistarsacikstes/
LOCATION:LKSS sporta vingrošanas un šaha sporta bāze\, Rīgas iela 8\, Liepāja\, Select a State:\, Latvija
CATEGORIES:Sporta vingrošana
ORGANIZER;CN="Liep%C4%81jas Kompleks%C4%81s sporta skolas sporta vingro%C5%A1anas noda%C4%BCa":MAILTO:liepaja.kss@liepaja.lv
END:VEVENT
BEGIN:VEVENT
DTSTART;VALUE=DATE:20241220
DTEND;VALUE=DATE:20241221
DTSTAMP:20260423T093822
CREATED:20240909T122922Z
LAST-MODIFIED:20241121T080557Z
UID:1691-1734652800-1734739199@lkss.lv
SUMMARY:Ziemassvētku turnīrs sporta vingrošanā
DESCRIPTION:Popularizēt sporta vingrošanas sporta veidu Liepājā un veicināt  vingrotāju sporta meistarības izaugsmi.
URL:https://lkss.lv/kalendars/ziemassvetku-turnirs-sporta-vingrosana/
LOCATION:LKSS sporta vingrošanas un šaha sporta bāze\, Rīgas iela 8\, Liepāja\, Select a State:\, Latvija
CATEGORIES:Sporta vingrošana
ORGANIZER;CN="Liep%C4%81jas Kompleks%C4%81s sporta skolas sporta vingro%C5%A1anas noda%C4%BCa":MAILTO:liepaja.kss@liepaja.lv
END:VEVENT
BEGIN:VEVENT
DTSTART;VALUE=DATE:20241206
DTEND;VALUE=DATE:20241207
DTSTAMP:20260423T093822
CREATED:20240909T122642Z
LAST-MODIFIED:20241121T075041Z
UID:1688-1733443200-1733529599@lkss.lv
SUMMARY:Ilzes Rences kauss-2024 sporta vingrošanā
DESCRIPTION:Starptautisks piemiņas turnīrs sporta vingrošanā. Noskaidrot labākās sporta vingrotājas katrā sporta klasē.
URL:https://lkss.lv/kalendars/ilzes-rences-kauss-2024-sporta-vingrosana/
LOCATION:Sporta vingrošanas un šaha sporta bāze\, Rīgas iela 8\, Liepāja\, Latvija
CATEGORIES:Sporta vingrošana
ORGANIZER;CN="Liep%C4%81jas Kompleks%C4%81s sporta skolas sporta vingro%C5%A1anas noda%C4%BCa":MAILTO:liepaja.kss@liepaja.lv
END:VEVENT
BEGIN:VEVENT
DTSTART;VALUE=DATE:20241109
DTEND;VALUE=DATE:20241111
DTSTAMP:20260423T093822
CREATED:20240909T122043Z
LAST-MODIFIED:20240909T122043Z
UID:1683-1731110400-1731283199@lkss.lv
SUMMARY:Latvijas Republikas čempionāts sporta vingrošanā
DESCRIPTION:
URL:https://lkss.lv/kalendars/latvijas-republikas-cempionats-sporta-vingrosana/
LOCATION:Ventspils
CATEGORIES:Sporta vingrošana
END:VEVENT
BEGIN:VEVENT
DTSTART;VALUE=DATE:20241018
DTEND;VALUE=DATE:20241020
DTSTAMP:20260423T093822
CREATED:20240909T121720Z
LAST-MODIFIED:20240909T121720Z
UID:1680-1729209600-1729382399@lkss.lv
SUMMARY:Rīgas Vingrošanas skolas sacensības sporta vingrošanā "Rudens Kauss 2024"
DESCRIPTION:Rīgas pilsētas sacensības sporta vingrošanā
URL:https://lkss.lv/kalendars/rigas-vingrosanas-skolas-sacensibas-sporta-vingrosana-rudens-kauss-2024/
LOCATION:Rīga\, Pāles ielā 9
CATEGORIES:Sporta vingrošana
END:VEVENT
BEGIN:VEVENT
DTSTART;VALUE=DATE:20241017
DTEND;VALUE=DATE:20241018
DTSTAMP:20260423T093822
CREATED:20240909T121424Z
LAST-MODIFIED:20240909T121424Z
UID:1677-1729123200-1729209599@lkss.lv
SUMMARY:Liepājas Kompleksā sporta skolas kauss sporta vingrošanā
DESCRIPTION:Noskaidrot labāko sporta vingrotāju
URL:https://lkss.lv/kalendars/liepajas-kompleksa-sporta-skolas-kauss-sporta-vingrosana/
LOCATION:LKSS sporta vingrošanas un šaha sporta bāze\, Rīgas iela 8\, Liepāja\, Select a State:\, Latvija
CATEGORIES:Sporta vingrošana
ORGANIZER;CN="Liep%C4%81jas Kompleks%C4%81s sporta skolas sporta vingro%C5%A1anas noda%C4%BCa":MAILTO:liepaja.kss@liepaja.lv
END:VEVENT
BEGIN:VEVENT
DTSTART;VALUE=DATE:20241004
DTEND;VALUE=DATE:20241006
DTSTAMP:20260423T093822
CREATED:20240909T120343Z
LAST-MODIFIED:20240923T132750Z
UID:1668-1728000000-1728172799@lkss.lv
SUMMARY:Latvijas atklātais čempionāts pieaugušajiem un jauniešiem WAG “KURZEMES GRĀCIJA-2024’’
DESCRIPTION:Latvijas atklātais čempionāts pieaugušajiem un jauniešiem sporta vingrošanā (sievietēm) \nSacensību uzdevums ir noskaidrot labākās sporta vingrotājas un veicināt vingrotāju sporta meistarības izaugsmi. \nNolikums_Latvijas-atklatais-cempionats-un-meistarsacikstes.pdf (gfl.lv)
URL:https://lkss.lv/kalendars/wag-kurzemes-gracija-2024-mag-kurzemes-talants-2024/
LOCATION:Ventspils Olimpiskais centrs\, Sporta iela 7/9\, Ventspils\, Latvia
CATEGORIES:Sporta vingrošana
END:VEVENT
BEGIN:VEVENT
DTSTART;VALUE=DATE:20240531
DTEND;VALUE=DATE:20240602
DTSTAMP:20260423T093822
CREATED:20240327T132254Z
LAST-MODIFIED:20240425T115130Z
UID:902-1717113600-1717286399@lkss.lv
SUMMARY:Liepājas atklātais čempionāts sporta vingrošanā
DESCRIPTION:Popularizēt sporta vingrošanas sporta veidu.\nNoskaidrot labākās sporta vingrotājas katrā sporta klasē.\nVeicināt vingrotāju sporta meistarības izaugsmi.
URL:https://lkss.lv/kalendars/liepajas-atklatais-cempionats-sporta-vingrosana/
LOCATION:Sporta vingrošanas un šaha sporta bāze\, Rīgas iela 8\, Liepāja\, Latvija
CATEGORIES:Sporta vingrošana
ORGANIZER;CN="Liep%C4%81jas Kompleks%C4%81s sporta skolas sporta vingro%C5%A1anas noda%C4%BCa sadarb%C4%ABb%C4%81 ar Liep%C4%81jas Sporta p%C4%81rvaldi":MAILTO:liepaja.lkss@liepaja.lv
END:VEVENT
BEGIN:VEVENT
DTSTART;VALUE=DATE:20240518
DTEND;VALUE=DATE:20240519
DTSTAMP:20260423T093822
CREATED:20240523T125158Z
LAST-MODIFIED:20240523T125158Z
UID:1261-1715990400-1716076799@lkss.lv
SUMMARY:''Vilties Gimnastika-2024'' sporta vingrošanā
DESCRIPTION:Klaipēdas sporta vingrošanas starptautisks turnīrs bērniem.
URL:https://lkss.lv/kalendars/vilties-gimnastika-2024-sporta-vingrosana/
LOCATION:BI Klaipedos ”Viesulo” vingrošanas sporta centrā\, Debreceno g. 48\, Klaipēda\, Lietuva
CATEGORIES:Sporta vingrošana
END:VEVENT
BEGIN:VEVENT
DTSTART;VALUE=DATE:20240510
DTEND;VALUE=DATE:20240511
DTSTAMP:20260423T093822
CREATED:20240523T123907Z
LAST-MODIFIED:20240523T123907Z
UID:1257-1715299200-1715385599@lkss.lv
SUMMARY:Ventspils Sporta skolas ''Spars'' atklātā kausu izcīņa sporta vingrošanā
DESCRIPTION:Popularizēt sporta vingrošanu un noskaidrot labākās vingrotājas.
URL:https://lkss.lv/kalendars/ventspils-sporta-skolas-spars-atklata-kausu-izcina-sporta-vingrosana/
LOCATION:OC VENTSPILS vingrošanas zāle\, Sporta iela 7/9\, Ventspils
CATEGORIES:Sporta vingrošana
END:VEVENT
BEGIN:VEVENT
DTSTART;VALUE=DATE:20240502
DTEND;VALUE=DATE:20240506
DTSTAMP:20260423T093822
CREATED:20240327T141739Z
LAST-MODIFIED:20240327T141739Z
UID:921-1714608000-1714953599@lkss.lv
SUMMARY:35. Eiropas čempionāts sporta vingrošanā sievietēm
DESCRIPTION:Sporta vingrošanas sacensības
URL:https://lkss.lv/kalendars/35-eiropas-cempionats-sporta-vingrosana-sievietem/
LOCATION:Fiera di Rimini\, Rimini\, Itālija
CATEGORIES:Sporta vingrošana
END:VEVENT
BEGIN:VEVENT
DTSTART;TZID=Europe/Riga:20240424T140000
DTEND;TZID=Europe/Riga:20240424T190000
DTSTAMP:20260423T093822
CREATED:20240617T131654Z
LAST-MODIFIED:20240617T131654Z
UID:1422-1713967200-1713985200@lkss.lv
SUMMARY:Kontrolnormatīvi sporta vingrošanā
DESCRIPTION:Kontrolnormatīvu izpilde – izpildīt sporta skolas kritērijus audzēkņu pārcelšanai uz jauno mācību gadu. \nDalībnieki-LKSS sporta vingrošanas audzēknes.
URL:https://lkss.lv/kalendars/kontrolnormativi-sporta-vingrosana/
LOCATION:LKSS sporta vingrošanas un šaha sporta bāze\, Rīgas iela 8\, Liepāja\, Select a State:\, Latvija
CATEGORIES:Sporta vingrošana
END:VEVENT
BEGIN:VEVENT
DTSTART;VALUE=DATE:20240420
DTEND;VALUE=DATE:20240421
DTSTAMP:20260423T093822
CREATED:20240523T123421Z
LAST-MODIFIED:20240523T123421Z
UID:1253-1713571200-1713657599@lkss.lv
SUMMARY:Latvijas Republikas jaunatnes meistarsacīkstes sporta vingrošanā ''Cerību kauss''
DESCRIPTION:Sacensību uzdevums ir noskaidrot labākās vingrotājus sporta vingrošanā un veicināt vingrotāju sporta meistarības izaugsmi.
URL:https://lkss.lv/kalendars/latvijas-republikas-jaunatnes-meistarsacikstes-sporta-vingrosana-ceribu-kauss/
LOCATION:Rīgas Vingrošanas skola\, Miera iela 62\, Rīga\, Latvia
CATEGORIES:Sporta vingrošana
END:VEVENT
BEGIN:VEVENT
DTSTART;VALUE=DATE:20240327
DTEND;VALUE=DATE:20240328
DTSTAMP:20260423T093822
CREATED:20240327T110850Z
LAST-MODIFIED:20240327T111908Z
UID:875-1711497600-1711583999@lkss.lv
SUMMARY:''Lieldienu turnīrs 2024'' sporta vingrošanā
DESCRIPTION:Noskaidrot labākās sporta vingrotājas katrā sporta klasē.\nVeicināt vingrotāju sporta meistarības izaugsmi. \nSacensību programma: \n5.sporta klase – min. 6 grūtības elementi\, atb. lēciena galds 125 cm;\n4.sporta klase – min. 5 grūtības elementi\, atb. lēciena galds 110-125\ncm;\n3.sporta klase – min. 4 grūtības elementi\, atb. lēciena galds 110-125\ncm;\n2.sporta klase — min. 3 grūtības elementi\, atbl lēciena paklāju\nkaudze 100 cm;\n1.sporta klase — min. 2 grūtības elementi\, atb. lēciens atspēriena\ntiltiņš
URL:https://lkss.lv/kalendars/lieldienu-turnirs-2024-sporta-vingrosana/
LOCATION:Sporta vingrošanas un šaha sporta bāze\, Rīgas iela 8\, Liepāja\, Latvija
CATEGORIES:Sporta vingrošana
ORGANIZER;CN="Liep%C4%81jas Kompleks%C4%81s sporta skolas sporta vingro%C5%A1anas noda%C4%BCa":MAILTO:liepaja.kss@liepaja.lv
END:VEVENT
BEGIN:VEVENT
DTSTART;VALUE=DATE:20240229
DTEND;VALUE=DATE:20240303
DTSTAMP:20260423T093822
CREATED:20240214T142825Z
LAST-MODIFIED:20240214T142825Z
UID:640-1709164800-1709423999@lkss.lv
SUMMARY:Rīgas Vingrošanas skolas sacensības sporta vingrošanā “Tīģerēna kauss 2024”
DESCRIPTION:Sacensību programma: \n1.kategorija: Seniores (2008.gadā dzimušas un vecākas) – izvelēs programma\n(FIG)\,\n2.kategorija: Juniores (2009. – 2010.gadā dzimušas) – izvelēs programma\n(FIG)\,\n3.kategorija: Pre – juniores (2011. – 2012.gadā dzimušas) – izvelēs\nprogramma (FIG).
URL:https://lkss.lv/kalendars/rigas-vingrosanas-skolas-sacensibas-sporta-vingrosana-tigerena-kauss-2024/
LOCATION:Rīgas Vingrošanasskola\, Sporta zale\, Miera iela 62\, Rīga
CATEGORIES:Sporta vingrošana
END:VEVENT
BEGIN:VEVENT
DTSTART;VALUE=DATE:20240216
DTEND;VALUE=DATE:20240217
DTSTAMP:20260423T093822
CREATED:20240213T145644Z
LAST-MODIFIED:20240214T080745Z
UID:596-1708041600-1708127999@lkss.lv
SUMMARY:Ventspils ''Spars'' atklātais čempionāts sporta vingrošanā
DESCRIPTION:Sacensību programma: \n16.02.2024. meitenes (WAG) pl. 14.30\n4.sporta klase (min. 5 grūtības elementi)\nAtbalsta lēciens. Atbalsta lēciena galds 110 – 125 cm.\n5.sporta klase (min. 6 grūtības elementi)\nAtbalsta lēciens. Atbalsta lēciena galds 125 cm.\nPre-juniores – 2011.-2012.g.dz.\, pēc FIG noteikumiem.\nJuniores – 2010.-2009.g.dz.\, pēc FIG noteikumiem.\nSeniores – 2008.dz.g. un vecākās\, pēc FIG noteikumiem.
URL:https://lkss.lv/kalendars/ventspils-spars-atklatais-cempionats/
LOCATION:OC VENTSPILS vingrošanas zāle\, Sporta iela 7/9\, Ventspils
CATEGORIES:Sporta vingrošana
END:VEVENT
END:VCALENDAR