BEGIN:VCALENDAR
VERSION:2.0
PRODID:-//Liepājas Kompleksā sporta skola - ECPv6.15.20//NONSGML v1.0//EN
CALSCALE:GREGORIAN
METHOD:PUBLISH
X-ORIGINAL-URL:https://lkss.lv
X-WR-CALDESC:Events for Liepājas Kompleksā sporta skola
REFRESH-INTERVAL;VALUE=DURATION:PT1H
X-Robots-Tag:noindex
X-PUBLISHED-TTL:PT1H
BEGIN:VTIMEZONE
TZID:Europe/Riga
BEGIN:DAYLIGHT
TZOFFSETFROM:+0200
TZOFFSETTO:+0300
TZNAME:EEST
DTSTART:20250330T010000
END:DAYLIGHT
BEGIN:STANDARD
TZOFFSETFROM:+0300
TZOFFSETTO:+0200
TZNAME:EET
DTSTART:20251026T010000
END:STANDARD
BEGIN:DAYLIGHT
TZOFFSETFROM:+0200
TZOFFSETTO:+0300
TZNAME:EEST
DTSTART:20260329T010000
END:DAYLIGHT
BEGIN:STANDARD
TZOFFSETFROM:+0300
TZOFFSETTO:+0200
TZNAME:EET
DTSTART:20261025T010000
END:STANDARD
BEGIN:DAYLIGHT
TZOFFSETFROM:+0200
TZOFFSETTO:+0300
TZNAME:EEST
DTSTART:20270328T010000
END:DAYLIGHT
BEGIN:STANDARD
TZOFFSETFROM:+0300
TZOFFSETTO:+0200
TZNAME:EET
DTSTART:20271031T010000
END:STANDARD
END:VTIMEZONE
BEGIN:VEVENT
DTSTART;VALUE=DATE:20260401
DTEND;VALUE=DATE:20260402
DTSTAMP:20260423T093854
CREATED:20260129T144415Z
LAST-MODIFIED:20260312T120803Z
UID:3791-1775001600-1775087999@lkss.lv
SUMMARY:Latvijas Republikas atklātās jaunatnes meistarsacīkstes sporta vingrošanā Lieldienu turnīrs 2026
DESCRIPTION:Latvijas Vingrošanas federācija ir uzsākusi sadarbību ar Liepājas Kompleksās sporta skolas sporta vingrošanas sacensību organizēšanu. \n\n\ngada 1.aprīlī Liepājā notiks Latvijas Jaunatnes meistarsacīkstes sporta vingrošanā “Lieldienu turnīrs 2026” \n\n\nSacensības tiks organizētas jaunā formātā\, kas paredz sportistu sadalījumu pēc sporta klasēm un vecuma grupām. Par pamatu šai sistēmai tika ņemts mākslas vingrošanas sacensību modelis\, kas jau ilgstoši veiksmīgi darbojas Latvijā. \nJaunā pieeja nodrošinās: \n\n\nlīdzvērtīgāku konkurenci katrā sagatavotības līmenī; \n\n\npakāpenisku sportistu meistarības attīstību; \n\n\nskaidru struktūru treneru darbā; \n\n\nmotivējošu vidi jaunajiem sportistiem. \n\n\nSacensību mērķis ir veicināt sporta vingrošanas attīstību\, nodrošināt kvalitatīvu sacensību pieredzi un sekmēt jaunatnes sportistu izaugsmi. \nSacensībās piedalās 1.-5. sporta klašu sporta vingrotājas.
URL:https://lkss.lv/kalendars/latvijas-republikas-atklatas-jaunatnes-meistarsacikstes-sporta-vingrosana-lieldienu-turnirs-2026/
LOCATION:LOC Vingrošanas sporta zāle\, Rīgas iela 8\, Liepāja\, Select a State:\, Latvia
CATEGORIES:Sporta vingrošana
ORGANIZER;CN="Latvijas Vingro%C5%A1anas feder%C4%81cija sadarb%C4%ABb%C4%81 ar Liep%C4%81jas Kompleks%C4%81s sporta skolas sporta vingro%C5%A1anas noda%C4%BCu":MAILTO:gfl@latnet.lv
END:VEVENT
END:VCALENDAR