BEGIN:VCALENDAR
VERSION:2.0
PRODID:-//Liepājas Kompleksā sporta skola - ECPv6.15.20//NONSGML v1.0//EN
CALSCALE:GREGORIAN
METHOD:PUBLISH
X-ORIGINAL-URL:https://lkss.lv
X-WR-CALDESC:Events for Liepājas Kompleksā sporta skola
REFRESH-INTERVAL;VALUE=DURATION:PT1H
X-Robots-Tag:noindex
X-PUBLISHED-TTL:PT1H
BEGIN:VTIMEZONE
TZID:Europe/Riga
BEGIN:DAYLIGHT
TZOFFSETFROM:+0200
TZOFFSETTO:+0300
TZNAME:EEST
DTSTART:20250330T010000
END:DAYLIGHT
BEGIN:STANDARD
TZOFFSETFROM:+0300
TZOFFSETTO:+0200
TZNAME:EET
DTSTART:20251026T010000
END:STANDARD
BEGIN:DAYLIGHT
TZOFFSETFROM:+0200
TZOFFSETTO:+0300
TZNAME:EEST
DTSTART:20260329T010000
END:DAYLIGHT
BEGIN:STANDARD
TZOFFSETFROM:+0300
TZOFFSETTO:+0200
TZNAME:EET
DTSTART:20261025T010000
END:STANDARD
BEGIN:DAYLIGHT
TZOFFSETFROM:+0200
TZOFFSETTO:+0300
TZNAME:EEST
DTSTART:20270328T010000
END:DAYLIGHT
BEGIN:STANDARD
TZOFFSETFROM:+0300
TZOFFSETTO:+0200
TZNAME:EET
DTSTART:20271031T010000
END:STANDARD
END:VTIMEZONE
BEGIN:VEVENT
DTSTART;VALUE=DATE:20260525
DTEND;VALUE=DATE:20260530
DTSTAMP:20260423T092304
CREATED:20260325T131145Z
LAST-MODIFIED:20260325T131145Z
UID:4083-1779667200-1780099199@lkss.lv
SUMMARY:Liepājas pilsētas atklātais čempionāts sporta vingrošanā
DESCRIPTION:Sacensībās piedalās 1.-5.sporta klašu vingrotājas\, pre-juniores\, juniores un seniores.
URL:https://lkss.lv/kalendars/liepajas-pilsetas-atklatais-cempionats-sporta-vingrosana/
LOCATION:LOC Vingrošanas sporta zāle\, Rīgas iela 8\, Liepāja\, Select a State:\, Latvia
CATEGORIES:Sporta vingrošana
ORGANIZER;CN="Liep%C4%81jas Kompleks%C4%81s sporta skolas sporta vingro%C5%A1anas noda%C4%BCa":MAILTO:liepaja.kss@liepaja.lv
END:VEVENT
END:VCALENDAR